BEGIN:VCALENDAR
VERSION:2.0
PRODID:-//Northern Chesapeake Cruising Club - ECPv6.15.20//NONSGML v1.0//EN
CALSCALE:GREGORIAN
METHOD:PUBLISH
X-ORIGINAL-URL:https://nc3sailing.org
X-WR-CALDESC:Events for Northern Chesapeake Cruising Club
REFRESH-INTERVAL;VALUE=DURATION:PT1H
X-Robots-Tag:noindex
X-PUBLISHED-TTL:PT1H
BEGIN:VTIMEZONE
TZID:America/New_York
BEGIN:DAYLIGHT
TZOFFSETFROM:-0500
TZOFFSETTO:-0400
TZNAME:EDT
DTSTART:20240310T070000
END:DAYLIGHT
BEGIN:STANDARD
TZOFFSETFROM:-0400
TZOFFSETTO:-0500
TZNAME:EST
DTSTART:20241103T060000
END:STANDARD
BEGIN:DAYLIGHT
TZOFFSETFROM:-0500
TZOFFSETTO:-0400
TZNAME:EDT
DTSTART:20250309T070000
END:DAYLIGHT
BEGIN:STANDARD
TZOFFSETFROM:-0400
TZOFFSETTO:-0500
TZNAME:EST
DTSTART:20251102T060000
END:STANDARD
BEGIN:DAYLIGHT
TZOFFSETFROM:-0500
TZOFFSETTO:-0400
TZNAME:EDT
DTSTART:20260308T070000
END:DAYLIGHT
BEGIN:STANDARD
TZOFFSETFROM:-0400
TZOFFSETTO:-0500
TZNAME:EST
DTSTART:20261101T060000
END:STANDARD
END:VTIMEZONE
BEGIN:VEVENT
DTSTART;TZID=America/New_York:20250503T100000
DTEND;TZID=America/New_York:20250504T120000
DTSTAMP:20260419T131534
CREATED:20241213T031125Z
LAST-MODIFIED:20250211T200621Z
UID:3091-1746266400-1746360000@nc3sailing.org
SUMMARY:SHAKEDOWN WEEKEND & NC3 GATHERING - MAY 3- May 4
DESCRIPTION:SHAKEDOWN WEEKEND & NC3 GATHERING – MAY 3 \nDaysail with anchoring in Sue Creek.  Dingy to NC3 gathering at BYC.   \n\nRegistrations are closed for this event \n \nNot yet a member? Join in the fun and fellowship of NC3 for just $20 per year per person!
URL:https://nc3sailing.org/event/shakedown-weekend-nc3-gathering-may-3-4-2025/
CATEGORIES:Cruise,Meeting
ATTACH;FMTTYPE=image/jpeg:https://nc3sailing.org/wp-content/uploads/2024/12/shakedown-7.jpeg
ORGANIZER;CN="Bryant Gorrell":MAILTO:bryantg61@gmail.com
END:VEVENT
END:VCALENDAR