BEGIN:VCALENDAR
VERSION:2.0
PRODID:-//Northern Chesapeake Cruising Club - ECPv6.15.20//NONSGML v1.0//EN
CALSCALE:GREGORIAN
METHOD:PUBLISH
X-WR-CALNAME:Northern Chesapeake Cruising Club
X-ORIGINAL-URL:https://nc3sailing.org
X-WR-CALDESC:Events for Northern Chesapeake Cruising Club
REFRESH-INTERVAL;VALUE=DURATION:PT1H
X-Robots-Tag:noindex
X-PUBLISHED-TTL:PT1H
BEGIN:VTIMEZONE
TZID:America/New_York
BEGIN:DAYLIGHT
TZOFFSETFROM:-0500
TZOFFSETTO:-0400
TZNAME:EDT
DTSTART:20210314T070000
END:DAYLIGHT
BEGIN:STANDARD
TZOFFSETFROM:-0400
TZOFFSETTO:-0500
TZNAME:EST
DTSTART:20211107T060000
END:STANDARD
BEGIN:DAYLIGHT
TZOFFSETFROM:-0500
TZOFFSETTO:-0400
TZNAME:EDT
DTSTART:20220313T070000
END:DAYLIGHT
BEGIN:STANDARD
TZOFFSETFROM:-0400
TZOFFSETTO:-0500
TZNAME:EST
DTSTART:20221106T060000
END:STANDARD
BEGIN:DAYLIGHT
TZOFFSETFROM:-0500
TZOFFSETTO:-0400
TZNAME:EDT
DTSTART:20230312T070000
END:DAYLIGHT
BEGIN:STANDARD
TZOFFSETFROM:-0400
TZOFFSETTO:-0500
TZNAME:EST
DTSTART:20231105T060000
END:STANDARD
END:VTIMEZONE
BEGIN:VEVENT
DTSTART;TZID=America/New_York:20221112T110000
DTEND;TZID=America/New_York:20221112T130000
DTSTAMP:20260419T113826
CREATED:20211222T025224Z
LAST-MODIFIED:20211222T025242Z
UID:2046-1668250800-1668258000@nc3sailing.org
SUMMARY:Change of Watch Meeting
DESCRIPTION:You must login to Register for this event. \n\n\n	\n		\n			Username or E-mail\n\n						Password\n\n								\n		\n		Only fill in if you are not human\n		\n	 \n	\n\n\n\n	\n\n		\n\n			\n				\n					\n						\n						\n						 Keep me signed in\n					\n				\n			\n\n						\n		\n			\n				\n			\n			\n				\n					Register				\n			\n\n		\n		\n\n	\n\n	\n	\n		\n			Forgot your password?		\n	\n\n			\n	\n\n\n \nNot yet a member? Join in the fun and fellowship of NC3 for just $20 per year per person!
URL:https://nc3sailing.org/event/change-of-watch-meeting-2/
LOCATION:Casa Mia\, 17417 York Rd\, Parkton\, MD\, 21120\, United States
CATEGORIES:Meeting,Social
END:VEVENT
END:VCALENDAR